BEGIN:VCALENDAR
VERSION:2.0
PRODID:-//CSR Communications - ECPv6.15.20//NONSGML v1.0//EN
CALSCALE:GREGORIAN
METHOD:PUBLISH
X-WR-CALNAME:CSR Communications
X-ORIGINAL-URL:https://csrcommunications.com
X-WR-CALDESC:Events for CSR Communications
REFRESH-INTERVAL;VALUE=DURATION:PT1H
X-Robots-Tag:noindex
X-PUBLISHED-TTL:PT1H
BEGIN:VTIMEZONE
TZID:America/New_York
BEGIN:DAYLIGHT
TZOFFSETFROM:-0500
TZOFFSETTO:-0400
TZNAME:EDT
DTSTART:20240310T070000
END:DAYLIGHT
BEGIN:STANDARD
TZOFFSETFROM:-0400
TZOFFSETTO:-0500
TZNAME:EST
DTSTART:20241103T060000
END:STANDARD
BEGIN:DAYLIGHT
TZOFFSETFROM:-0500
TZOFFSETTO:-0400
TZNAME:EDT
DTSTART:20250309T070000
END:DAYLIGHT
BEGIN:STANDARD
TZOFFSETFROM:-0400
TZOFFSETTO:-0500
TZNAME:EST
DTSTART:20251102T060000
END:STANDARD
BEGIN:DAYLIGHT
TZOFFSETFROM:-0500
TZOFFSETTO:-0400
TZNAME:EDT
DTSTART:20260308T070000
END:DAYLIGHT
BEGIN:STANDARD
TZOFFSETFROM:-0400
TZOFFSETTO:-0500
TZNAME:EST
DTSTART:20261101T060000
END:STANDARD
END:VTIMEZONE
BEGIN:VEVENT
DTSTART;TZID=America/New_York:20250415T110000
DTEND;TZID=America/New_York:20250415T120000
DTSTAMP:20260421T082501
CREATED:20250331T133916Z
LAST-MODIFIED:20250331T133939Z
UID:7680-1744714800-1744718400@csrcommunications.com
SUMMARY:[Executive Forum] Safeguarding Impact: What private and corporate foundations can implement in the next 90 days to strengthen grantee resilience amid disruption
DESCRIPTION:What private and corporate foundations implement in the next 90 days to strengthen grantee resilience amid disruption\nJoin other directors\, senior program officers\, portfolio leads\, and strategy officers to discuss practical ways to support grantees and safeguard outcomes amidst federal funding cuts. \nForward-thinking foundations recognize that protecting grant investments requires more than emergency funding—it demands wholistic approaches to building grantee adaptability and maintaining momentum despite quickly shifting funding\, policy\, and regulatory landscapes. \nIn this executive forum\, participants will share practical approaches for: \n\nAssessing grantee vulnerability\nStrategically deploying resources\nBuilding organizational adaptability\n\n\nJoin us to explore strategies that transform the current volatility from a threat to an opportunity to strengthen the sector.
URL:https://csrcommunications.com/event/executive-forum-safeguarding-impact-what-private-and-corporate-foundations-can-implement-in-the-next-90-days-to-strengthen-grantee-resilience-amid-disruption/
ATTACH;FMTTYPE=image/png:https://csrcommunications.com/wp-content/uploads/2025/03/Copy-of-Survey-Says-1920-x-800-px-3.png
END:VEVENT
END:VCALENDAR