BEGIN:VCALENDAR
VERSION:2.0
PRODID:-//CSR Communications - ECPv6.15.20//NONSGML v1.0//EN
CALSCALE:GREGORIAN
METHOD:PUBLISH
X-WR-CALNAME:CSR Communications
X-ORIGINAL-URL:https://csrcommunications.com
X-WR-CALDESC:Events for CSR Communications
REFRESH-INTERVAL;VALUE=DURATION:PT1H
X-Robots-Tag:noindex
X-PUBLISHED-TTL:PT1H
BEGIN:VTIMEZONE
TZID:America/New_York
BEGIN:DAYLIGHT
TZOFFSETFROM:-0500
TZOFFSETTO:-0400
TZNAME:EDT
DTSTART:20210314T070000
END:DAYLIGHT
BEGIN:STANDARD
TZOFFSETFROM:-0400
TZOFFSETTO:-0500
TZNAME:EST
DTSTART:20211107T060000
END:STANDARD
BEGIN:DAYLIGHT
TZOFFSETFROM:-0500
TZOFFSETTO:-0400
TZNAME:EDT
DTSTART:20220313T070000
END:DAYLIGHT
BEGIN:STANDARD
TZOFFSETFROM:-0400
TZOFFSETTO:-0500
TZNAME:EST
DTSTART:20221106T060000
END:STANDARD
BEGIN:DAYLIGHT
TZOFFSETFROM:-0500
TZOFFSETTO:-0400
TZNAME:EDT
DTSTART:20230312T070000
END:DAYLIGHT
BEGIN:STANDARD
TZOFFSETFROM:-0400
TZOFFSETTO:-0500
TZNAME:EST
DTSTART:20231105T060000
END:STANDARD
END:VTIMEZONE
BEGIN:VEVENT
DTSTART;TZID=America/New_York:20220315T110000
DTEND;TZID=America/New_York:20220315T121500
DTSTAMP:20260420T031249
CREATED:20240427T021107Z
LAST-MODIFIED:20240427T021107Z
UID:1661-1647342000-1647346500@csrcommunications.com
SUMMARY:Escaping Groundhog Day: What Executives can do in the next 30 days to get your team back in the driver's seat & reclaim your strategic thinking time
DESCRIPTION:If you feel trapped in an endless loop of meeting after meeting\, crisis to crisis\, transactional activity\, then this gathering is for you. If you want to get your team back in the driver’s seat so that you can recapture your strategic thinking time and focus on your biggest priorities\, then this conversation is for you. If you’re spending too much time on the urgent and (maybe) important quadrant and are ready to shift time into Stephen Covey’s “Quadrant II” activities like planning\, prevention\, pursuing new opportunities and relationship building\, then this month’s forum is for you. I’ll share a few of my best tools and techniques\, then we’ll dive into conversation about what’s getting in the way of pursuing your next big thing now and what you can do in the next 30 days to overcome those barriers.
URL:https://csrcommunications.com/event/escaping-groundhog-day-what-executives-can-do-in-the-next-30-days-to-get-your-team-back-in-the-drivers-seat-reclaim-your-strategic-thinking-time/
ATTACH;FMTTYPE=image/jpeg:https://csrcommunications.com/wp-content/uploads/2024/04/iStock-1178386659.jpg
END:VEVENT
END:VCALENDAR