BEGIN:VCALENDAR
VERSION:2.0
PRODID:-//CSR Communications - ECPv6.15.20//NONSGML v1.0//EN
CALSCALE:GREGORIAN
METHOD:PUBLISH
X-ORIGINAL-URL:https://csrcommunications.com
X-WR-CALDESC:Events for CSR Communications
REFRESH-INTERVAL;VALUE=DURATION:PT1H
X-Robots-Tag:noindex
X-PUBLISHED-TTL:PT1H
BEGIN:VTIMEZONE
TZID:America/New_York
BEGIN:DAYLIGHT
TZOFFSETFROM:-0500
TZOFFSETTO:-0400
TZNAME:EDT
DTSTART:20240310T070000
END:DAYLIGHT
BEGIN:STANDARD
TZOFFSETFROM:-0400
TZOFFSETTO:-0500
TZNAME:EST
DTSTART:20241103T060000
END:STANDARD
BEGIN:DAYLIGHT
TZOFFSETFROM:-0500
TZOFFSETTO:-0400
TZNAME:EDT
DTSTART:20250309T070000
END:DAYLIGHT
BEGIN:STANDARD
TZOFFSETFROM:-0400
TZOFFSETTO:-0500
TZNAME:EST
DTSTART:20251102T060000
END:STANDARD
BEGIN:DAYLIGHT
TZOFFSETFROM:-0500
TZOFFSETTO:-0400
TZNAME:EDT
DTSTART:20260308T070000
END:DAYLIGHT
BEGIN:STANDARD
TZOFFSETFROM:-0400
TZOFFSETTO:-0500
TZNAME:EST
DTSTART:20261101T060000
END:STANDARD
END:VTIMEZONE
BEGIN:VEVENT
DTSTART;TZID=America/New_York:20250326T110000
DTEND;TZID=America/New_York:20250326T120000
DTSTAMP:20260419T092637
CREATED:20250312T155144Z
LAST-MODIFIED:20250312T155144Z
UID:7667-1742986800-1742990400@csrcommunications.com
SUMMARY:Middle Manager Burnout Threatens Your 2025 Stability
DESCRIPTION:Your organization’s vital connective tissue is breaking. Middle managers are quitting\, burning out\, or collapsing under pressure as companies cut management layers while demanding more execution. \nWhy it matters: This exodus strips away institutional knowledge and leadership capacity precisely when market volatility and economic uncertainty demand stability. \nOur March forum tackles this crisis head-on with practical solutions. Y \nYou’ll learn: \n\nWarning signs: Detect management collapse before it’s too late\nCommon pitfalls: Why conventional approaches make burnout worse\nActionable alternatives: Proven interventions that work in volatile environments\n\n\n👉 The bottom line: Waiting costs more than good people—it costs organizational stability when external conditions demand it most.
URL:https://csrcommunications.com/event/middle-manager-burnout-threatens-your-2025-stability/
ATTACH;FMTTYPE=image/png:https://csrcommunications.com/wp-content/uploads/2025/03/Minimal-Card-Inspirational-Quote-Instagram-Post.png
END:VEVENT
END:VCALENDAR