BEGIN:VCALENDAR
VERSION:2.0
PRODID:-//CSR Communications - ECPv6.15.20//NONSGML v1.0//EN
CALSCALE:GREGORIAN
METHOD:PUBLISH
X-WR-CALNAME:CSR Communications
X-ORIGINAL-URL:https://csrcommunications.com
X-WR-CALDESC:Events for CSR Communications
REFRESH-INTERVAL;VALUE=DURATION:PT1H
X-Robots-Tag:noindex
X-PUBLISHED-TTL:PT1H
BEGIN:VTIMEZONE
TZID:America/New_York
BEGIN:DAYLIGHT
TZOFFSETFROM:-0500
TZOFFSETTO:-0400
TZNAME:EDT
DTSTART:20240310T070000
END:DAYLIGHT
BEGIN:STANDARD
TZOFFSETFROM:-0400
TZOFFSETTO:-0500
TZNAME:EST
DTSTART:20241103T060000
END:STANDARD
BEGIN:DAYLIGHT
TZOFFSETFROM:-0500
TZOFFSETTO:-0400
TZNAME:EDT
DTSTART:20250309T070000
END:DAYLIGHT
BEGIN:STANDARD
TZOFFSETFROM:-0400
TZOFFSETTO:-0500
TZNAME:EST
DTSTART:20251102T060000
END:STANDARD
BEGIN:DAYLIGHT
TZOFFSETFROM:-0500
TZOFFSETTO:-0400
TZNAME:EDT
DTSTART:20260308T070000
END:DAYLIGHT
BEGIN:STANDARD
TZOFFSETFROM:-0400
TZOFFSETTO:-0500
TZNAME:EST
DTSTART:20261101T060000
END:STANDARD
END:VTIMEZONE
BEGIN:VEVENT
DTSTART;TZID=America/New_York:20250522T110000
DTEND;TZID=America/New_York:20250522T120000
DTSTAMP:20260419T135228
CREATED:20250501T195534Z
LAST-MODIFIED:20250501T195534Z
UID:7694-1747911600-1747915200@csrcommunications.com
SUMMARY:[Executive Forum] The People Side of Successful AI Adoption
DESCRIPTION:Join peer executives in our Next Big Thing Executive Forum to address the human side of AI adoption: \n\nStrategies that shift team perception from worry to opportunity\nWhat most often goes wrong with AI integration initiatives (and how to prevent it)\nThe true cost of waiting or failing in the effort to incorporate AI into your organization\n\n\nWhether you’re actively implementing AI\, planning for future integration\, or questioning all the AI hype\, you’ll gain valuable insights from other leaders navigating these same challenges. \nWhen: Thursday\, May 22 @ 11:00 am ETWhere: Live via Zoom \nThe Reality: According to Pew Research\, 80% of American workers aren’t using AI tools at work\, and only 6% believe AI will create more job opportunities for them long-term. At the same time\, Conference Board data shows 100% of CEOs will have an AI strategy in 2025. \nWhy It Matters: “The biggest piece of advice I have when it comes to anything related to AI – is that it’s change management. This is behavioral change. That is not about the technology\,” says Microsoft’s Deb Cupp. \nBottom Line: The future belongs to organizations that can bridge the gap between AI’s productivity promise and human adoption concerns. Will yours be among them? \nThe Value Is Being in the Room \nThe Next Big Thing Executive Forum brings together small groups of C-Suite executives and senior leaders for off-the-record\, peer-to-peer\, idea-exchange conversations. We cover topics essential to defining\, designing\, and successfully realizing your “next big thing\,” whether it’s a new strategic initiative\, internal policy shift\, or significant organizational transformation. We charge no fee to participate and make no sales pitch at the event. To honor our “off-the-record” commitment\, we do not make recordings available.
URL:https://csrcommunications.com/event/executive-forum-the-people-side-of-successful-ai-adoption/
ATTACH;FMTTYPE=image/png:https://csrcommunications.com/wp-content/uploads/2025/05/Untitled-design-2025-05-01T155242.577.png
END:VEVENT
END:VCALENDAR