BEGIN:VCALENDAR
VERSION:2.0
PRODID:-//CSR Communications - ECPv6.15.20//NONSGML v1.0//EN
CALSCALE:GREGORIAN
METHOD:PUBLISH
X-WR-CALNAME:CSR Communications
X-ORIGINAL-URL:https://csrcommunications.com
X-WR-CALDESC:Events for CSR Communications
REFRESH-INTERVAL;VALUE=DURATION:PT1H
X-Robots-Tag:noindex
X-PUBLISHED-TTL:PT1H
BEGIN:VTIMEZONE
TZID:America/New_York
BEGIN:DAYLIGHT
TZOFFSETFROM:-0500
TZOFFSETTO:-0400
TZNAME:EDT
DTSTART:20240310T070000
END:DAYLIGHT
BEGIN:STANDARD
TZOFFSETFROM:-0400
TZOFFSETTO:-0500
TZNAME:EST
DTSTART:20241103T060000
END:STANDARD
BEGIN:DAYLIGHT
TZOFFSETFROM:-0500
TZOFFSETTO:-0400
TZNAME:EDT
DTSTART:20250309T070000
END:DAYLIGHT
BEGIN:STANDARD
TZOFFSETFROM:-0400
TZOFFSETTO:-0500
TZNAME:EST
DTSTART:20251102T060000
END:STANDARD
BEGIN:DAYLIGHT
TZOFFSETFROM:-0500
TZOFFSETTO:-0400
TZNAME:EDT
DTSTART:20260308T070000
END:DAYLIGHT
BEGIN:STANDARD
TZOFFSETFROM:-0400
TZOFFSETTO:-0500
TZNAME:EST
DTSTART:20261101T060000
END:STANDARD
END:VTIMEZONE
BEGIN:VEVENT
DTSTART;TZID=America/New_York:20250722T110000
DTEND;TZID=America/New_York:20250722T120000
DTSTAMP:20260421T061230
CREATED:20250604T172826Z
LAST-MODIFIED:20250604T172826Z
UID:7743-1753182000-1753185600@csrcommunications.com
SUMMARY:What Funders and Nonprofits Really Need to Know About Mergers and Acquisitions
DESCRIPTION:Join peer executives in our Next Big Thing Executive Forum to explore the realities of nonprofit consolidation: \n\n\nWhen mergers actually strengthen mission impact (and when they don’t) \n\n\nWhat funders and nonprofit leaders wish they’d known before encouraging or pursuing consolidation \n\n\nThe hidden costs and unexpected benefits that don’t show up in due diligence \n\n\nWhether you view nonprofit mergers as long overdue (“there are too many nonprofits”)\, a risky trend with serious pitfalls\, or something you didn’t even know was possible\, this conversation is for you. \nWhen: July 22 @ 11:00 am ETWhere: Live via Zoom \nThe Reality: Funding cuts\, economic uncertainty\, and shifting political dynamics are pushing more social sector leaders to consider strategic alliances\, mergers\, or acquisitions as possible paths forward. \nWhy It Matters: The pressure to consolidate is real\, but the track record is mixed. Some mergers create stronger\, more sustainable organizations. Others destroy what made each organization valuable in the first place. \nBottom Line: Whether you’re a funder considering which organizations to nudge toward consolidation\, a board member weighing strategic options\, or a nonprofit executive exploring possible partners\, you need honest insights from peers who’ve been there. \nThis forum brings together funders\, board members\, and nonprofit executives for a candid exploration of what works\, what doesn’t\, and what questions you should be asking before anyone signs anything. \n\nThe Value Is Being in the Room \nThe Next Big Thing Executive Forum brings together small groups of C-Suite executives and senior leaders for off-the-record\, peer-to-peer\, idea-exchange conversations. We cover topics essential to defining\, designing\, and successfully realizing your “next big thing\,” whether it’s a new strategic initiative\, internal policy shift\, or significant organizational transformation. We charge no fee to participate and make no sales pitch at the event. To honor our “off-the-record” commitment\, we do not make recordings available.
URL:https://csrcommunications.com/event/what-funders-and-nonprofits-really-need-to-know-about-mergers-and-acquisitions/
LOCATION:Live via Zoom
ATTACH;FMTTYPE=image/png:https://csrcommunications.com/wp-content/uploads/2025/06/ChatGPT-Image-Jun-4-2025-01_23_56-PM.png
ORGANIZER;CN="CSR Communications":MAILTO:info@csrcommunications.com
END:VEVENT
END:VCALENDAR